BEGIN:VCALENDAR
VERSION:2.0
PRODID:-//Library Market//iCal Export//EN
BEGIN:VEVENT
SUMMARY:Canvas Creations
UID:5236
DTSTAMP:20260420T093300Z
DTSTART:20260624T230000Z
DTEND:20260625T010000Z
LOCATION:Oconomowoc Public Library, 200 W South St, Oconomowoc, WI 53066, 
 United States
ROOM: Lyke Meeting Room
DESCRIPTION:Learn to paint with acrylics with step-by-step instructionsThi
 s month: SunflowersRegistration will open on April 24 at 9am.
URL:https://oconomowoc.librarycalendar.com/event/canvas-creations-5236
END:VEVENT
END:VCALENDAR
