BEGIN:VCALENDAR
VERSION:2.0
PRODID:-//Library Market//iCal Export//EN
BEGIN:VEVENT
SUMMARY:Canvas Creations
UID:5248
DTSTAMP:20260419T124600Z
DTSTART:20260625T140000Z
DTEND:20260625T160000Z
LOCATION:Oconomowoc Public Library, 200 W South St, Oconomowoc, WI 53066, 
 United States
ROOM: Lyke Meeting Room
DESCRIPTION:Learn to paint with acrylics with step-by-step instructions.Th
 is month: SunflowersRegistration begins on April 25 at 9am
URL:https://oconomowoc.librarycalendar.com/event/canvas-creations-5248
END:VEVENT
END:VCALENDAR
